BEGIN:VCALENDAR
VERSION:2.0
PRODID:-//UPD CRS//NONSGML Academic Calendar//EN
BEGIN:VEVENT
DTSTAMP:20260425T092708Z
UID:20260425T092708Z69ec186c13a27@crs.upd.edu.ph
DTSTART;VALUE=DATE-TIME:20260328T000000Z
DTEND;VALUE=DATE-TIME:20260328T235959Z
SUMMARY:Deadline of Faculty Service Record Submission
CATEGORIES:Graduate Program,Second Trimester AY 2025-2026,Deadline
END:VEVENT
END:VCALENDAR
